BEGIN:VCALENDAR
VERSION:2.0
PRODID:-//Spice Alley, Kensington Street - ECPv5.3.1.1//NONSGML v1.0//EN
CALSCALE:GREGORIAN
METHOD:PUBLISH
X-WR-CALNAME:Spice Alley, Kensington Street
X-ORIGINAL-URL:https://spicealley.com.au
X-WR-CALDESC:Events for Spice Alley, Kensington Street
BEGIN:VTIMEZONE
TZID:Australia/Sydney
BEGIN:STANDARD
TZOFFSETFROM:+1100
TZOFFSETTO:+1000
TZNAME:AEST
DTSTART:20210403T160000
END:STANDARD
BEGIN:DAYLIGHT
TZOFFSETFROM:+1000
TZOFFSETTO:+1100
TZNAME:AEDT
DTSTART:20211002T160000
END:DAYLIGHT
END:VTIMEZONE
BEGIN:VEVENT
DTSTART;VALUE=DATE:20210123
DTEND;VALUE=DATE:20210418
DTSTAMP:20210301T105505
CREATED:20210122T053200Z
LAST-MODIFIED:20210201T001234Z
UID:9013-1611360000-1618703999@spicealley.com.au
SUMMARY:FREE $5 til 5pm
DESCRIPTION:Do you have a Spice Alley Gift Card? Grab one at our Spice Alley Kiosk from 11am-5pm any day of the week and we’ll throw on an extra $5 free! \nSimply purchase a Spice Alley Gift Card\, provide your email and for every $50 you add we’ll pop on an extra $5 for you to spend at any of our Spice Alley venues!*Terms and conditions apply: Provide your information when purchasing a gift card to redeem this offer. Offer only redeemable at the Spice Alley Kiosk. Receive an additional $5 value for every $50 on any Spice Alley Gift Card. Minimum spend of $50. Offer only available between 11am-5pm daily. Credit on cards subject to normal Spice Alley Gift Card terms & conditions. We reserve the right to withdraw this offer at any time.
URL:https://spicealley.com.au/event/5-til-5/
LOCATION:Spice Alley\, 18-20 Kensington Street\, Chippendale\, NSW\, 2008
CATEGORIES:Specials
ATTACH;FMTTYPE=image/jpeg:https://spicealley.com.au/wp-content/uploads/2021/01/Spice-Alley_Special_Free-5-til-5_1200x800.jpg
END:VEVENT
END:VCALENDAR