BEGIN:VCALENDAR
VERSION:2.0
PRODID:-//Spice Alley, Kensington Street - ECPv5.3.1.1//NONSGML v1.0//EN
CALSCALE:GREGORIAN
METHOD:PUBLISH
X-WR-CALNAME:Spice Alley, Kensington Street
X-ORIGINAL-URL:https://spicealley.com.au
X-WR-CALDESC:Events for Spice Alley, Kensington Street
BEGIN:VTIMEZONE
TZID:Australia/Sydney
BEGIN:STANDARD
TZOFFSETFROM:+1100
TZOFFSETTO:+1000
TZNAME:AEST
DTSTART:20200404T160000
END:STANDARD
BEGIN:DAYLIGHT
TZOFFSETFROM:+1000
TZOFFSETTO:+1100
TZNAME:AEDT
DTSTART:20201003T160000
END:DAYLIGHT
END:VTIMEZONE
BEGIN:VEVENT
DTSTART;VALUE=DATE:20201204
DTEND;VALUE=DATE:20210101
DTSTAMP:20210301T105707
CREATED:20201204T051610Z
LAST-MODIFIED:20201204T051806Z
UID:8646-1607040000-1609459199@spicealley.com.au
SUMMARY:Spice Alley open 364 days a year!
DESCRIPTION:We’re open every day all day apart from Christmas Day.Head down to Spice Alley throughout the festive season to dine under the stars or book a private Christmas party for you and your friends at Spice Alley’s Spice House!Holiday Opening Hours\nCLOSED on Christmas Day\nSUNDAY to WEDNESDAY 11:00am – 9:30pm\nTHURSDAY to SATURDAY 11:00am – 10:00pm
URL:https://spicealley.com.au/event/spice-alley-is-open-364-days-of-the-year/
LOCATION:Spice Alley\, 18-20 Kensington Street\, Chippendale\, NSW\, 2008
CATEGORIES:Christmas
ATTACH;FMTTYPE=image/jpeg:https://spicealley.com.au/wp-content/uploads/2020/12/SA-Xmas-Web-Tile.jpg
END:VEVENT
END:VCALENDAR