BEGIN:VCALENDAR
VERSION:2.0
PRODID:-//Spice Alley, Kensington Street - ECPv5.3.1.1//NONSGML v1.0//EN
CALSCALE:GREGORIAN
METHOD:PUBLISH
X-WR-CALNAME:Spice Alley, Kensington Street
X-ORIGINAL-URL:https://spicealley.com.au
X-WR-CALDESC:Events for Spice Alley, Kensington Street
BEGIN:VTIMEZONE
TZID:Australia/Sydney
BEGIN:STANDARD
TZOFFSETFROM:+1100
TZOFFSETTO:+1000
TZNAME:AEST
DTSTART:20210403T160000
END:STANDARD
BEGIN:DAYLIGHT
TZOFFSETFROM:+1000
TZOFFSETTO:+1100
TZNAME:AEDT
DTSTART:20211002T160000
END:DAYLIGHT
END:VTIMEZONE
BEGIN:VEVENT
DTSTART;VALUE=DATE:20210125
DTEND;VALUE=DATE:20210422
DTSTAMP:20210301T105634
CREATED:20210121T002801Z
LAST-MODIFIED:20210122T002517Z
UID:8995-1611532800-1619049599@spicealley.com.au
SUMMARY:Tiger Beer x Spice Alley
DESCRIPTION:Don’t forget to take advantage of our Tiger Beer x Spice Alley promotion.Simply\, purchase a bottle of Tiger Beer from Spice Bar and get specially priced meal deals when you show it to the cashier. \nOnly available at select stalls that have a specially discounted meal deal. \nAvailable Monday to Wednesday from 5pm til late. \nOffer redeemable at: \n\nShanghai Dumpling Bar\nOld Jim Kee\nHong Kong Diner\nGinger & Spice\nBang Luck Thai\nAlex Lee Kitchen
URL:https://spicealley.com.au/event/tiger-beer-x-spice-alley/
LOCATION:Spice Alley\, 18-20 Kensington Street\, Chippendale\, NSW\, 2008
CATEGORIES:Specials
ATTACH;FMTTYPE=image/jpeg:https://spicealley.com.au/wp-content/uploads/2021/01/Spice-Alley-Tiger-Beer-Promo.jpg
END:VEVENT
END:VCALENDAR